BEGIN:VCALENDAR
VERSION:2.0
PRODID:-//Altes Brauhaus Koblenz - ECPv6.15.17.1//NONSGML v1.0//EN
CALSCALE:GREGORIAN
METHOD:PUBLISH
X-ORIGINAL-URL:https://www.altesbrauhaus-koblenz.de
X-WR-CALDESC:Veranstaltungen für Altes Brauhaus Koblenz
REFRESH-INTERVAL;VALUE=DURATION:PT1H
X-Robots-Tag:noindex
X-PUBLISHED-TTL:PT1H
BEGIN:VTIMEZONE
TZID:Europe/Berlin
BEGIN:DAYLIGHT
TZOFFSETFROM:+0100
TZOFFSETTO:+0200
TZNAME:CEST
DTSTART:20220327T010000
END:DAYLIGHT
BEGIN:STANDARD
TZOFFSETFROM:+0200
TZOFFSETTO:+0100
TZNAME:CET
DTSTART:20221030T010000
END:STANDARD
BEGIN:DAYLIGHT
TZOFFSETFROM:+0100
TZOFFSETTO:+0200
TZNAME:CEST
DTSTART:20230326T010000
END:DAYLIGHT
BEGIN:STANDARD
TZOFFSETFROM:+0200
TZOFFSETTO:+0100
TZNAME:CET
DTSTART:20231029T010000
END:STANDARD
BEGIN:DAYLIGHT
TZOFFSETFROM:+0100
TZOFFSETTO:+0200
TZNAME:CEST
DTSTART:20240331T010000
END:DAYLIGHT
BEGIN:STANDARD
TZOFFSETFROM:+0200
TZOFFSETTO:+0100
TZNAME:CET
DTSTART:20241027T010000
END:STANDARD
END:VTIMEZONE
BEGIN:VEVENT
DTSTART;TZID=Europe/Berlin:20231203T080000
DTEND;TZID=Europe/Berlin:20231224T160000
DTSTAMP:20260420T192308
CREATED:20231107T132159Z
LAST-MODIFIED:20231107T132159Z
UID:10000035-1701590400-1703433600@www.altesbrauhaus-koblenz.de
SUMMARY:Frohe Weihnachtsfrühstück
DESCRIPTION:Frohe Weihnachtsfrühstück \nTreff für Jung und Alt \nVom 1. bis 3. Adventssonntag \nab 9.15 Uhr bis 11:15 Uhr \nsowie am 24.12. von 9.15 bis 16 Uhr \n12\,90 Euro p. Person \n 
URL:https://www.altesbrauhaus-koblenz.de/event/frohe-weihnachtsfruehstueck/
LOCATION:Brauhaus
ATTACH;FMTTYPE=image/jpeg:https://www.altesbrauhaus-koblenz.de/wp-content/uploads/2023/11/Weihnachten-Fruehstueck-KO-23.jpg
END:VEVENT
END:VCALENDAR