BEGIN:VCALENDAR
VERSION:2.0
PRODID:-//Altes Brauhaus Koblenz - ECPv6.15.17.1//NONSGML v1.0//EN
CALSCALE:GREGORIAN
METHOD:PUBLISH
X-ORIGINAL-URL:https://www.altesbrauhaus-koblenz.de
X-WR-CALDESC:Veranstaltungen für Altes Brauhaus Koblenz
REFRESH-INTERVAL;VALUE=DURATION:PT1H
X-Robots-Tag:noindex
X-PUBLISHED-TTL:PT1H
BEGIN:VTIMEZONE
TZID:Europe/Berlin
BEGIN:DAYLIGHT
TZOFFSETFROM:+0100
TZOFFSETTO:+0200
TZNAME:CEST
DTSTART:20240331T010000
END:DAYLIGHT
BEGIN:STANDARD
TZOFFSETFROM:+0200
TZOFFSETTO:+0100
TZNAME:CET
DTSTART:20241027T010000
END:STANDARD
BEGIN:DAYLIGHT
TZOFFSETFROM:+0100
TZOFFSETTO:+0200
TZNAME:CEST
DTSTART:20250330T010000
END:DAYLIGHT
BEGIN:STANDARD
TZOFFSETFROM:+0200
TZOFFSETTO:+0100
TZNAME:CET
DTSTART:20251026T010000
END:STANDARD
BEGIN:DAYLIGHT
TZOFFSETFROM:+0100
TZOFFSETTO:+0200
TZNAME:CEST
DTSTART:20260329T010000
END:DAYLIGHT
BEGIN:STANDARD
TZOFFSETFROM:+0200
TZOFFSETTO:+0100
TZNAME:CET
DTSTART:20261025T010000
END:STANDARD
END:VTIMEZONE
BEGIN:VEVENT
DTSTART;TZID=Europe/Berlin:20250705T220000
DTEND;TZID=Europe/Berlin:20250706T010000
DTSTAMP:20260420T123806
CREATED:20250422T101221Z
LAST-MODIFIED:20250422T101221Z
UID:10000424-1751752800-1751763600@www.altesbrauhaus-koblenz.de
SUMMARY:Single Party im Alten Brauhaus Koblenz
DESCRIPTION:Single Fete im Alten Brauhaus – Koblenz\nSamstag\, 5. Juli |ab 22 Uhr mit DJ Dirk\nvielleicht auch etwas für dein Herz! 💘\nKomm zur ultimativen Single Party im Alten Brauhaus in Koblenz!\nDJ Dirk sorgt für den perfekten Soundtrack der Nacht\nNutze unser Speed Dating – wer weiß\, was sich ergibt?\nEintritt frei!\nEinfach rein kommen und feiern\nwww.altesbrauhaus.de #altesbrauhaus #singlefete #flirt #party\n💘 SINGLE FETE – KOBLENZ 💘\n💘 Altes Brauhaus\n💘 Samstag 5. Juli\n💘 Ab 22 Uhr\n💘 Mit DJ Dirk\nEintritt frei!\nBist du bereit für Flirts\, Party & Speed Dating? 💘\nLerne neue Leute kennen\, tanze die Nacht durch und vielleicht ist dein Match auch dabei! 💘\n💘💘\n💘 Speed Dating direkt vor Ort – trau dich!\n💘 Komm vorbei – wir freuen uns auf EUCH!\n💘 Markier deine Single-Freunde & Save the Date!\n#SingleParty #Koblenz #AltesBrauhaus #DJDirk #SpeedDating #PartyTime #EintrittFrei\n#SingleLife
URL:https://www.altesbrauhaus-koblenz.de/event/single-party-im-alten-brauhaus-koblenz/
LOCATION:Brauhaus
ATTACH;FMTTYPE=image/png:https://www.altesbrauhaus-koblenz.de/wp-content/uploads/2025/04/Vorlage_PDF_Brauhaus-14.png
END:VEVENT
END:VCALENDAR