BEGIN:VCALENDAR
VERSION:2.0
PRODID:-//Altes Brauhaus Koblenz - ECPv6.15.17.1//NONSGML v1.0//EN
CALSCALE:GREGORIAN
METHOD:PUBLISH
X-WR-CALNAME:Altes Brauhaus Koblenz
X-ORIGINAL-URL:https://www.altesbrauhaus-koblenz.de
X-WR-CALDESC:Veranstaltungen für Altes Brauhaus Koblenz
REFRESH-INTERVAL;VALUE=DURATION:PT1H
X-Robots-Tag:noindex
X-PUBLISHED-TTL:PT1H
BEGIN:VTIMEZONE
TZID:Europe/Berlin
BEGIN:DAYLIGHT
TZOFFSETFROM:+0100
TZOFFSETTO:+0200
TZNAME:CEST
DTSTART:20240331T010000
END:DAYLIGHT
BEGIN:STANDARD
TZOFFSETFROM:+0200
TZOFFSETTO:+0100
TZNAME:CET
DTSTART:20241027T010000
END:STANDARD
BEGIN:DAYLIGHT
TZOFFSETFROM:+0100
TZOFFSETTO:+0200
TZNAME:CEST
DTSTART:20250330T010000
END:DAYLIGHT
BEGIN:STANDARD
TZOFFSETFROM:+0200
TZOFFSETTO:+0100
TZNAME:CET
DTSTART:20251026T010000
END:STANDARD
BEGIN:DAYLIGHT
TZOFFSETFROM:+0100
TZOFFSETTO:+0200
TZNAME:CEST
DTSTART:20260329T010000
END:DAYLIGHT
BEGIN:STANDARD
TZOFFSETFROM:+0200
TZOFFSETTO:+0100
TZNAME:CET
DTSTART:20261025T010000
END:STANDARD
END:VTIMEZONE
BEGIN:VEVENT
DTSTART;TZID=Europe/Berlin:20250320T103000
DTEND;TZID=Europe/Berlin:20250320T233000
DTSTAMP:20260421T175144
CREATED:20250206T084813Z
LAST-MODIFIED:20250206T084813Z
UID:10000110-1742466600-1742513400@www.altesbrauhaus-koblenz.de
SUMMARY:Debbekoche-Woche im Alten Brauhaus Mülheim-Kärlich
DESCRIPTION:Debbekoche Woche im Alten Brauhaus Mülheim Kärlich \nAktionswoche verlängert\, auch am 6. und 20. März 2025 \nDebbekoche mit Apfelmus auch zum Mitnehmen \n 
URL:https://www.altesbrauhaus-koblenz.de/event/debbekoche-woche-im-alten-brauhaus-muelheim-kaerlich-2/2025-03-20/
LOCATION:Brauhaus Mülheim-Kärlich\, Kapellenstraße 2\, Mülheim-Kärlich\, Rheinland-Pfalz\, 56218\, Deutschland
ATTACH;FMTTYPE=image/jpeg:https://www.altesbrauhaus-koblenz.de/wp-content/uploads/2025/02/Verlaengern-bis-Maerz-Debbekoche-MK.jpg
END:VEVENT
BEGIN:VEVENT
DTSTART;TZID=Europe/Berlin:20250306T103000
DTEND;TZID=Europe/Berlin:20250306T233000
DTSTAMP:20260421T175144
CREATED:20250206T084813Z
LAST-MODIFIED:20250206T084813Z
UID:10000109-1741257000-1741303800@www.altesbrauhaus-koblenz.de
SUMMARY:Debbekoche-Woche im Alten Brauhaus Mülheim-Kärlich
DESCRIPTION:Debbekoche Woche im Alten Brauhaus Mülheim Kärlich \nAktionswoche verlängert\, auch am 6. und 20. März 2025 \nDebbekoche mit Apfelmus auch zum Mitnehmen \n 
URL:https://www.altesbrauhaus-koblenz.de/event/debbekoche-woche-im-alten-brauhaus-muelheim-kaerlich-2/2025-03-06/
LOCATION:Brauhaus Mülheim-Kärlich\, Kapellenstraße 2\, Mülheim-Kärlich\, Rheinland-Pfalz\, 56218\, Deutschland
ATTACH;FMTTYPE=image/jpeg:https://www.altesbrauhaus-koblenz.de/wp-content/uploads/2025/02/Verlaengern-bis-Maerz-Debbekoche-MK.jpg
END:VEVENT
BEGIN:VEVENT
DTSTART;TZID=Europe/Berlin:20250220T080000
DTEND;TZID=Europe/Berlin:20250220T170000
DTSTAMP:20260421T175144
CREATED:20241220T130443Z
LAST-MODIFIED:20250206T084603Z
UID:10000101-1740038400-1740070800@www.altesbrauhaus-koblenz.de
SUMMARY:Debbekoche Woche im Alten Brauhaus Mülheim Kärlich
DESCRIPTION:Debbekoche Woche im Alten Brauhaus Mülheim Kärlich \nAm 9. Januar und 23. Januar und am 6. Februar und am 20. Februar 2025 \nVerlängert\, auch am 6. und 20. März 2025 \nDebbekoche mit Apfelmus auch zum Mitnehmen \n 
URL:https://www.altesbrauhaus-koblenz.de/event/debbekoche-woche-im-alten-brauhaus-muelheim-kaerlich/2025-02-20/
LOCATION:Brauhaus Mülheim-Kärlich\, Kapellenstraße 2\, Mülheim-Kärlich\, Rheinland-Pfalz\, 56218\, Deutschland
ATTACH;FMTTYPE=image/jpeg:https://www.altesbrauhaus-koblenz.de/wp-content/uploads/2024/12/Debbekoche-Woche.jpg
END:VEVENT
BEGIN:VEVENT
DTSTART;TZID=Europe/Berlin:20250206T080000
DTEND;TZID=Europe/Berlin:20250206T170000
DTSTAMP:20260421T175144
CREATED:20241220T130443Z
LAST-MODIFIED:20250206T084603Z
UID:10000100-1738828800-1738861200@www.altesbrauhaus-koblenz.de
SUMMARY:Debbekoche Woche im Alten Brauhaus Mülheim Kärlich
DESCRIPTION:Debbekoche Woche im Alten Brauhaus Mülheim Kärlich \nAm 9. Januar und 23. Januar und am 6. Februar und am 20. Februar 2025 \nVerlängert\, auch am 6. und 20. März 2025 \nDebbekoche mit Apfelmus auch zum Mitnehmen \n 
URL:https://www.altesbrauhaus-koblenz.de/event/debbekoche-woche-im-alten-brauhaus-muelheim-kaerlich/2025-02-06/
LOCATION:Brauhaus Mülheim-Kärlich\, Kapellenstraße 2\, Mülheim-Kärlich\, Rheinland-Pfalz\, 56218\, Deutschland
ATTACH;FMTTYPE=image/jpeg:https://www.altesbrauhaus-koblenz.de/wp-content/uploads/2024/12/Debbekoche-Woche.jpg
END:VEVENT
BEGIN:VEVENT
DTSTART;TZID=Europe/Berlin:20250123T080000
DTEND;TZID=Europe/Berlin:20250123T170000
DTSTAMP:20260421T175144
CREATED:20241220T130443Z
LAST-MODIFIED:20250206T084603Z
UID:10000099-1737619200-1737651600@www.altesbrauhaus-koblenz.de
SUMMARY:Debbekoche Woche im Alten Brauhaus Mülheim Kärlich
DESCRIPTION:Debbekoche Woche im Alten Brauhaus Mülheim Kärlich \nAm 9. Januar und 23. Januar und am 6. Februar und am 20. Februar 2025 \nVerlängert\, auch am 6. und 20. März 2025 \nDebbekoche mit Apfelmus auch zum Mitnehmen \n 
URL:https://www.altesbrauhaus-koblenz.de/event/debbekoche-woche-im-alten-brauhaus-muelheim-kaerlich/2025-01-23/
LOCATION:Brauhaus Mülheim-Kärlich\, Kapellenstraße 2\, Mülheim-Kärlich\, Rheinland-Pfalz\, 56218\, Deutschland
ATTACH;FMTTYPE=image/jpeg:https://www.altesbrauhaus-koblenz.de/wp-content/uploads/2024/12/Debbekoche-Woche.jpg
END:VEVENT
BEGIN:VEVENT
DTSTART;TZID=Europe/Berlin:20250109T100000
DTEND;TZID=Europe/Berlin:20250109T233000
DTSTAMP:20260421T175144
CREATED:20241220T130443Z
LAST-MODIFIED:20250206T084603Z
UID:10000098-1736416800-1736465400@www.altesbrauhaus-koblenz.de
SUMMARY:Debbekoche Woche im Alten Brauhaus Mülheim Kärlich
DESCRIPTION:Debbekoche Woche im Alten Brauhaus Mülheim Kärlich \nAm 9. Januar und 23. Januar und am 6. Februar und am 20. Februar 2025 \nVerlängert\, auch am 6. und 20. März 2025 \nDebbekoche mit Apfelmus auch zum Mitnehmen \n 
URL:https://www.altesbrauhaus-koblenz.de/event/debbekoche-woche-im-alten-brauhaus-muelheim-kaerlich/2025-01-09/
LOCATION:Brauhaus Mülheim-Kärlich\, Kapellenstraße 2\, Mülheim-Kärlich\, Rheinland-Pfalz\, 56218\, Deutschland
ATTACH;FMTTYPE=image/jpeg:https://www.altesbrauhaus-koblenz.de/wp-content/uploads/2024/12/Debbekoche-Woche.jpg
END:VEVENT
END:VCALENDAR