BEGIN:VCALENDAR
VERSION:2.0
PRODID:-//Altes Brauhaus Koblenz - ECPv6.15.17.1//NONSGML v1.0//EN
CALSCALE:GREGORIAN
METHOD:PUBLISH
X-WR-CALNAME:Altes Brauhaus Koblenz
X-ORIGINAL-URL:https://www.altesbrauhaus-koblenz.de
X-WR-CALDESC:Veranstaltungen für Altes Brauhaus Koblenz
REFRESH-INTERVAL;VALUE=DURATION:PT1H
X-Robots-Tag:noindex
X-PUBLISHED-TTL:PT1H
BEGIN:VTIMEZONE
TZID:Europe/Berlin
BEGIN:DAYLIGHT
TZOFFSETFROM:+0100
TZOFFSETTO:+0200
TZNAME:CEST
DTSTART:20230326T010000
END:DAYLIGHT
BEGIN:STANDARD
TZOFFSETFROM:+0200
TZOFFSETTO:+0100
TZNAME:CET
DTSTART:20231029T010000
END:STANDARD
BEGIN:DAYLIGHT
TZOFFSETFROM:+0100
TZOFFSETTO:+0200
TZNAME:CEST
DTSTART:20240331T010000
END:DAYLIGHT
BEGIN:STANDARD
TZOFFSETFROM:+0200
TZOFFSETTO:+0100
TZNAME:CET
DTSTART:20241027T010000
END:STANDARD
BEGIN:DAYLIGHT
TZOFFSETFROM:+0100
TZOFFSETTO:+0200
TZNAME:CEST
DTSTART:20250330T010000
END:DAYLIGHT
BEGIN:STANDARD
TZOFFSETFROM:+0200
TZOFFSETTO:+0100
TZNAME:CET
DTSTART:20251026T010000
END:STANDARD
END:VTIMEZONE
BEGIN:VEVENT
DTSTART;TZID=Europe/Berlin:20240509T093000
DTEND;TZID=Europe/Berlin:20240509T233000
DTSTAMP:20260424T134954
CREATED:20240422T084412Z
LAST-MODIFIED:20240422T084412Z
UID:10000057-1715247000-1715297400@www.altesbrauhaus-koblenz.de
SUMMARY:Vatertag im Alten Brauhaus Koblenz
DESCRIPTION:Vatertag am 9. Mai \nFrühschoppen und Treffen für Jung & Alt \nGeöffnet von 9.15 Uhr bis open end \n 
URL:https://www.altesbrauhaus-koblenz.de/event/vatertag-im-alten-brauhaus-koblenz/
LOCATION:Brauhaus
ATTACH;FMTTYPE=image/jpeg:https://www.altesbrauhaus-koblenz.de/wp-content/uploads/2024/04/Vatertag-KO-scaled.jpg
END:VEVENT
END:VCALENDAR