BEGIN:VCALENDAR
VERSION:2.0
PRODID:-//Altes Brauhaus Koblenz - ECPv6.15.17.1//NONSGML v1.0//EN
CALSCALE:GREGORIAN
METHOD:PUBLISH
X-ORIGINAL-URL:https://www.altesbrauhaus-koblenz.de
X-WR-CALDESC:Veranstaltungen für Altes Brauhaus Koblenz
REFRESH-INTERVAL;VALUE=DURATION:PT1H
X-Robots-Tag:noindex
X-PUBLISHED-TTL:PT1H
BEGIN:VTIMEZONE
TZID:Europe/Berlin
BEGIN:DAYLIGHT
TZOFFSETFROM:+0100
TZOFFSETTO:+0200
TZNAME:CEST
DTSTART:20220327T010000
END:DAYLIGHT
BEGIN:STANDARD
TZOFFSETFROM:+0200
TZOFFSETTO:+0100
TZNAME:CET
DTSTART:20221030T010000
END:STANDARD
BEGIN:DAYLIGHT
TZOFFSETFROM:+0100
TZOFFSETTO:+0200
TZNAME:CEST
DTSTART:20230326T010000
END:DAYLIGHT
BEGIN:STANDARD
TZOFFSETFROM:+0200
TZOFFSETTO:+0100
TZNAME:CET
DTSTART:20231029T010000
END:STANDARD
BEGIN:DAYLIGHT
TZOFFSETFROM:+0100
TZOFFSETTO:+0200
TZNAME:CEST
DTSTART:20240331T010000
END:DAYLIGHT
BEGIN:STANDARD
TZOFFSETFROM:+0200
TZOFFSETTO:+0100
TZNAME:CET
DTSTART:20241027T010000
END:STANDARD
BEGIN:DAYLIGHT
TZOFFSETFROM:+0100
TZOFFSETTO:+0200
TZNAME:CEST
DTSTART:20250330T010000
END:DAYLIGHT
BEGIN:STANDARD
TZOFFSETFROM:+0200
TZOFFSETTO:+0100
TZNAME:CET
DTSTART:20251026T010000
END:STANDARD
BEGIN:DAYLIGHT
TZOFFSETFROM:+0100
TZOFFSETTO:+0200
TZNAME:CEST
DTSTART:20260329T010000
END:DAYLIGHT
BEGIN:STANDARD
TZOFFSETFROM:+0200
TZOFFSETTO:+0100
TZNAME:CET
DTSTART:20261025T010000
END:STANDARD
END:VTIMEZONE
BEGIN:VEVENT
DTSTART;TZID=Europe/Berlin:20251205T220000
DTEND;TZID=Europe/Berlin:20251206T020000
DTSTAMP:20260419T151539
CREATED:20250923T085021Z
LAST-MODIFIED:20251022T075215Z
UID:10000465-1764972000-1764986400@www.altesbrauhaus-koblenz.de
SUMMARY:Nikolaus-Vorfete im Alten Brauhaus Koblenz
DESCRIPTION:Stimmt euch ein auf das Fest der Liebe \nmit DJ Dirk und Ralf \nEintritt frei \nab 22:15 Uhr \n 
URL:https://www.altesbrauhaus-koblenz.de/event/nikolaus-vorfete-2/
LOCATION:Brauhaus
ATTACH;FMTTYPE=image/png:https://www.altesbrauhaus-koblenz.de/wp-content/uploads/2025/10/2.png
END:VEVENT
BEGIN:VEVENT
DTSTART;TZID=Europe/Berlin:20241206T080000
DTEND;TZID=Europe/Berlin:20241207T233000
DTSTAMP:20260419T151539
CREATED:20241122T120845Z
LAST-MODIFIED:20241122T120845Z
UID:10000091-1733472000-1733614200@www.altesbrauhaus-koblenz.de
SUMMARY:Mega Nikolaus Fete a 6 und 7. Dezember im Alten Brauhaus Koblenz
DESCRIPTION:Mega Nikolaus Fete a 6 und 7. Dezember im Alten Brauhaus Koblenz \nab 22 Uhr mit DJ
URL:https://www.altesbrauhaus-koblenz.de/event/mega-nikolaus-fete-a-6-und-7-dezember-im-alten-brauhaus-koblenz/
LOCATION:Brauhaus
ATTACH;FMTTYPE=image/gif:https://www.altesbrauhaus-koblenz.de/wp-content/uploads/2024/11/12-6-2024nikolaus-fete_dj_ralf-2-scaled.gif
END:VEVENT
BEGIN:VEVENT
DTSTART;TZID=Europe/Berlin:20231202T220000
DTEND;TZID=Europe/Berlin:20231202T233000
DTSTAMP:20260419T151539
CREATED:20231027T102517Z
LAST-MODIFIED:20231027T103907Z
UID:10000029-1701554400-1701559800@www.altesbrauhaus-koblenz.de
SUMMARY:Nikolaus-Vorfete
DESCRIPTION:Nikolaus Vorfete Im Alten Brauhaus Koblenz am 2. Dezember ab 22 Uhr \nStimmt euch ein auf das Fest der Liebe \nmit DJ Dirk \nEintritt frei \n 
URL:https://www.altesbrauhaus-koblenz.de/event/nikolaus-vorfete/
LOCATION:Brauhaus
ATTACH;FMTTYPE=image/png:https://www.altesbrauhaus-koblenz.de/wp-content/uploads/2023/10/nikolaus-vorfete-web.png
END:VEVENT
END:VCALENDAR