BEGIN:VCALENDAR
VERSION:2.0
PRODID:-//Altes Brauhaus Koblenz - ECPv6.15.17.1//NONSGML v1.0//EN
CALSCALE:GREGORIAN
METHOD:PUBLISH
X-WR-CALNAME:Altes Brauhaus Koblenz
X-ORIGINAL-URL:https://www.altesbrauhaus-koblenz.de
X-WR-CALDESC:Veranstaltungen für Altes Brauhaus Koblenz
REFRESH-INTERVAL;VALUE=DURATION:PT1H
X-Robots-Tag:noindex
X-PUBLISHED-TTL:PT1H
BEGIN:VTIMEZONE
TZID:Europe/Berlin
BEGIN:DAYLIGHT
TZOFFSETFROM:+0100
TZOFFSETTO:+0200
TZNAME:CEST
DTSTART:20230326T010000
END:DAYLIGHT
BEGIN:STANDARD
TZOFFSETFROM:+0200
TZOFFSETTO:+0100
TZNAME:CET
DTSTART:20231029T010000
END:STANDARD
BEGIN:DAYLIGHT
TZOFFSETFROM:+0100
TZOFFSETTO:+0200
TZNAME:CEST
DTSTART:20240331T010000
END:DAYLIGHT
BEGIN:STANDARD
TZOFFSETFROM:+0200
TZOFFSETTO:+0100
TZNAME:CET
DTSTART:20241027T010000
END:STANDARD
BEGIN:DAYLIGHT
TZOFFSETFROM:+0100
TZOFFSETTO:+0200
TZNAME:CEST
DTSTART:20250330T010000
END:DAYLIGHT
BEGIN:STANDARD
TZOFFSETFROM:+0200
TZOFFSETTO:+0100
TZNAME:CET
DTSTART:20251026T010000
END:STANDARD
END:VTIMEZONE
BEGIN:VEVENT
DTSTART;TZID=Europe/Berlin:20241215T090000
DTEND;TZID=Europe/Berlin:20241215T120000
DTSTAMP:20260422T112839
CREATED:20240829T115139Z
LAST-MODIFIED:20241122T121933Z
UID:10000086-1734253200-1734264000@www.altesbrauhaus-koblenz.de
SUMMARY:Alpenländisches Hüttenfrühstück im Alten Brauhaus Mülheim-Kärlich
DESCRIPTION:Alpenländisches Hüttenfrühstück im Alten Brauhaus Mülheim-Kärlich \nChristmas Edition \nDer Eintritt ist frei \nam 15.12. 2. Advent \nmit Live-Band Brauhausmusikanten \n9.15 bis ca 12 Uhr
URL:https://www.altesbrauhaus-koblenz.de/event/alpenlaendisches-huettenfruehstueck-im-alten-brauhaus-muelheim-kaerlich/
LOCATION:Brauhaus Mülheim-Kärlich\, Kapellenstraße 2\, Mülheim-Kärlich\, Rheinland-Pfalz\, 56218\, Deutschland
ATTACH;FMTTYPE=image/gif:https://www.altesbrauhaus-koblenz.de/wp-content/uploads/2024/08/alpenlaendisches-adventsfruehstueck-bmk.gif
END:VEVENT
BEGIN:VEVENT
DTSTART;TZID=Europe/Berlin:20241206T080000
DTEND;TZID=Europe/Berlin:20241207T233000
DTSTAMP:20260422T112839
CREATED:20241122T120845Z
LAST-MODIFIED:20241122T120845Z
UID:10000091-1733472000-1733614200@www.altesbrauhaus-koblenz.de
SUMMARY:Mega Nikolaus Fete a 6 und 7. Dezember im Alten Brauhaus Koblenz
DESCRIPTION:Mega Nikolaus Fete a 6 und 7. Dezember im Alten Brauhaus Koblenz \nab 22 Uhr mit DJ
URL:https://www.altesbrauhaus-koblenz.de/event/mega-nikolaus-fete-a-6-und-7-dezember-im-alten-brauhaus-koblenz/
LOCATION:Brauhaus
ATTACH;FMTTYPE=image/gif:https://www.altesbrauhaus-koblenz.de/wp-content/uploads/2024/11/12-6-2024nikolaus-fete_dj_ralf-2-scaled.gif
END:VEVENT
BEGIN:VEVENT
DTSTART;TZID=Europe/Berlin:20241031T220000
DTEND;TZID=Europe/Berlin:20241101T040000
DTSTAMP:20260422T112839
CREATED:20240912T123859Z
LAST-MODIFIED:20240912T123859Z
UID:10000088-1730412000-1730433600@www.altesbrauhaus-koblenz.de
SUMMARY:HALLOWEEN Fete im Alten Brauhaus Koblenz
DESCRIPTION:HALLOWEEN Fete im Alten Brauhaus Koblenz \nam 31. Oktober ab 22 Uhr mit DJ Dirk \nGruselfaktor ist erwünscht! \n 
URL:https://www.altesbrauhaus-koblenz.de/event/halloween-fete-im-alten-brauhaus-koblenz-2/
LOCATION:Brauhaus
ATTACH;FMTTYPE=image/jpeg:https://www.altesbrauhaus-koblenz.de/wp-content/uploads/2024/09/halloween_k1_druck-scaled.jpg
END:VEVENT
BEGIN:VEVENT
DTSTART;TZID=Europe/Berlin:20241005T220000
DTEND;TZID=Europe/Berlin:20241006T040000
DTSTAMP:20260422T112839
CREATED:20240912T123649Z
LAST-MODIFIED:20240912T123649Z
UID:10000087-1728165600-1728187200@www.altesbrauhaus-koblenz.de
SUMMARY:Hüttengaudi am 5. Oktober im Alten Brauhaus Koblenz
DESCRIPTION:Hüttengaudi am 5. Oktober im Alten Brauhaus Koblenz \nab 22 Uhr \nZünftige Musik mit DJ Dirk \nTrachten erwünscht \n 
URL:https://www.altesbrauhaus-koblenz.de/event/huettengaudi-am-5-oktober-im-alten-brauhaus-koblenz/
LOCATION:Brauhaus
ATTACH;FMTTYPE=image/jpeg:https://www.altesbrauhaus-koblenz.de/wp-content/uploads/2024/09/huetttengaudi510.jpg
END:VEVENT
BEGIN:VEVENT
DTSTART;TZID=Europe/Berlin:20240915T090000
DTEND;TZID=Europe/Berlin:20240915T113000
DTSTAMP:20260422T112839
CREATED:20240829T114845Z
LAST-MODIFIED:20240829T114845Z
UID:10000085-1726390800-1726399800@www.altesbrauhaus-koblenz.de
SUMMARY:Hüttenfrühstück im Alten Brauhaus Mülheim-Kärlich
DESCRIPTION:Hüttenfrühstück am 15. September 2024 \nViele leckere Schmankerl \nmit Live Band Brauhausmusikanten im Alten Brauhaus Mülheim Kärlich \nBei gutem Wetter im Biergarten \n  \n 
URL:https://www.altesbrauhaus-koblenz.de/event/huettenfruehstueck-im-alten-brauhaus-muelheim-kaerlich/
LOCATION:Brauhaus Mülheim-Kärlich\, Kapellenstraße 2\, Mülheim-Kärlich\, Rheinland-Pfalz\, 56218\, Deutschland
END:VEVENT
BEGIN:VEVENT
DTSTART;TZID=Europe/Berlin:20240907T220000
DTEND;TZID=Europe/Berlin:20240908T033000
DTSTAMP:20260422T112839
CREATED:20240829T114158Z
LAST-MODIFIED:20240829T114158Z
UID:10000084-1725746400-1725766200@www.altesbrauhaus-koblenz.de
SUMMARY:Celebrate after Holiday Party
DESCRIPTION:the sun rises at 22 h \nwith DJ Dirk \nAnt the winner is… \nBringt euer schönstes Urlaubsbild mit \nMit Prämierung!
URL:https://www.altesbrauhaus-koblenz.de/event/celebrate-after-holiday-party/
LOCATION:Brauhaus
ATTACH;FMTTYPE=image/jpeg:https://www.altesbrauhaus-koblenz.de/wp-content/uploads/2024/08/Holiday.jpg
END:VEVENT
BEGIN:VEVENT
DTSTART;TZID=Europe/Berlin:20240518T110000
DTEND;TZID=Europe/Berlin:20240518T233000
DTSTAMP:20260422T112839
CREATED:20240425T083637Z
LAST-MODIFIED:20240425T083637Z
UID:10000067-1716030000-1716075000@www.altesbrauhaus-koblenz.de
SUMMARY:Hüttenfest am Vatertag
DESCRIPTION:Hüttenfest am Vatertag\, am 18 Mai ab 11 Uhr \nWandern rund um Mülheim-Kärlich \nLive-Musik\, Essen\, Trinken\, Kinderprogramm
URL:https://www.altesbrauhaus-koblenz.de/event/huettenfest-am-vatertag/
LOCATION:Brauhaus
ATTACH;FMTTYPE=image/jpeg:https://www.altesbrauhaus-koblenz.de/wp-content/uploads/2024/04/K800_2023_stadt_huettenfest_plakat_DRUCK-2.jpg
END:VEVENT
END:VCALENDAR