BEGIN:VCALENDAR
VERSION:2.0
PRODID:-//Altes Brauhaus Koblenz - ECPv6.15.17.1//NONSGML v1.0//EN
CALSCALE:GREGORIAN
METHOD:PUBLISH
X-ORIGINAL-URL:https://www.altesbrauhaus-koblenz.de
X-WR-CALDESC:Veranstaltungen für Altes Brauhaus Koblenz
REFRESH-INTERVAL;VALUE=DURATION:PT1H
X-Robots-Tag:noindex
X-PUBLISHED-TTL:PT1H
BEGIN:VTIMEZONE
TZID:Europe/Berlin
BEGIN:DAYLIGHT
TZOFFSETFROM:+0100
TZOFFSETTO:+0200
TZNAME:CEST
DTSTART:20240331T010000
END:DAYLIGHT
BEGIN:STANDARD
TZOFFSETFROM:+0200
TZOFFSETTO:+0100
TZNAME:CET
DTSTART:20241027T010000
END:STANDARD
BEGIN:DAYLIGHT
TZOFFSETFROM:+0100
TZOFFSETTO:+0200
TZNAME:CEST
DTSTART:20250330T010000
END:DAYLIGHT
BEGIN:STANDARD
TZOFFSETFROM:+0200
TZOFFSETTO:+0100
TZNAME:CET
DTSTART:20251026T010000
END:STANDARD
BEGIN:DAYLIGHT
TZOFFSETFROM:+0100
TZOFFSETTO:+0200
TZNAME:CEST
DTSTART:20260329T010000
END:DAYLIGHT
BEGIN:STANDARD
TZOFFSETFROM:+0200
TZOFFSETTO:+0100
TZNAME:CET
DTSTART:20261025T010000
END:STANDARD
END:VTIMEZONE
BEGIN:VEVENT
DTSTART;TZID=Europe/Berlin:20250510T110000
DTEND;TZID=Europe/Berlin:20250510T120000
DTSTAMP:20260425T183300
CREATED:20250214T093523Z
LAST-MODIFIED:20250214T093523Z
UID:10000112-1746874800-1746878400@www.altesbrauhaus-koblenz.de
SUMMARY:Wein meets Brauhaus im Alten Brauhaus Koblenz
DESCRIPTION:Genießt den Samstagvormittag im gemütlichen Brauhaus in der Altstadt ! \nFreut euch auf ein Wine Tasting mit drei hochwertigen Weinen und leckerer Vesperplatte. Ein genussvoller Start ins Wochenende \nAm 29. März und 10. Mai 11 bis 12 Uhr \n25 Euro pro Person
URL:https://www.altesbrauhaus-koblenz.de/event/wein-meets-brauhaus-im-alten-brauhaus-koblenz/2025-05-10/
LOCATION:Brauhaus
END:VEVENT
BEGIN:VEVENT
DTSTART;TZID=Europe/Berlin:20250329T110000
DTEND;TZID=Europe/Berlin:20250329T120000
DTSTAMP:20260425T183300
CREATED:20250214T093523Z
LAST-MODIFIED:20250214T093523Z
UID:10000111-1743246000-1743249600@www.altesbrauhaus-koblenz.de
SUMMARY:Wein meets Brauhaus im Alten Brauhaus Koblenz
DESCRIPTION:Genießt den Samstagvormittag im gemütlichen Brauhaus in der Altstadt ! \nFreut euch auf ein Wine Tasting mit drei hochwertigen Weinen und leckerer Vesperplatte. Ein genussvoller Start ins Wochenende \nAm 29. März und 10. Mai 11 bis 12 Uhr \n25 Euro pro Person
URL:https://www.altesbrauhaus-koblenz.de/event/wein-meets-brauhaus-im-alten-brauhaus-koblenz/2025-03-29/
LOCATION:Brauhaus
END:VEVENT
END:VCALENDAR