BEGIN:VCALENDAR
VERSION:2.0
PRODID:-//Altes Brauhaus Koblenz - ECPv6.15.17.1//NONSGML v1.0//EN
CALSCALE:GREGORIAN
METHOD:PUBLISH
X-ORIGINAL-URL:https://www.altesbrauhaus-koblenz.de
X-WR-CALDESC:Veranstaltungen für Altes Brauhaus Koblenz
REFRESH-INTERVAL;VALUE=DURATION:PT1H
X-Robots-Tag:noindex
X-PUBLISHED-TTL:PT1H
BEGIN:VTIMEZONE
TZID:Europe/Berlin
BEGIN:DAYLIGHT
TZOFFSETFROM:+0100
TZOFFSETTO:+0200
TZNAME:CEST
DTSTART:20250330T010000
END:DAYLIGHT
BEGIN:STANDARD
TZOFFSETFROM:+0200
TZOFFSETTO:+0100
TZNAME:CET
DTSTART:20251026T010000
END:STANDARD
BEGIN:DAYLIGHT
TZOFFSETFROM:+0100
TZOFFSETTO:+0200
TZNAME:CEST
DTSTART:20260329T010000
END:DAYLIGHT
BEGIN:STANDARD
TZOFFSETFROM:+0200
TZOFFSETTO:+0100
TZNAME:CET
DTSTART:20261025T010000
END:STANDARD
BEGIN:DAYLIGHT
TZOFFSETFROM:+0100
TZOFFSETTO:+0200
TZNAME:CEST
DTSTART:20270328T010000
END:DAYLIGHT
BEGIN:STANDARD
TZOFFSETFROM:+0200
TZOFFSETTO:+0100
TZNAME:CET
DTSTART:20271031T010000
END:STANDARD
END:VTIMEZONE
BEGIN:VEVENT
DTSTART;TZID=Europe/Berlin:20260208T110000
DTEND;TZID=Europe/Berlin:20260208T233000
DTSTAMP:20260425T153812
CREATED:20260123T083925Z
LAST-MODIFIED:20260123T084025Z
UID:10000488-1770548400-1770593400@www.altesbrauhaus-koblenz.de
SUMMARY:Karnevalistischer Frühschoppen
DESCRIPTION:Karnevalistischer Frühschoppen im Alten Brauhaus Koblenz \nmit Dä Casels Ed \nDä Webers klaus \nDä Mölich Claus \nDä Manni Gniffke \nDä otto se Steff \nDä Sägers Brigitt \nam 8. Februar ab 11:11 Uhr\, Eintritt 7 Euro
URL:https://www.altesbrauhaus-koblenz.de/event/karnevalistischer-fruehschoppen/
LOCATION:Brauhaus
ATTACH;FMTTYPE=image/jpeg:https://www.altesbrauhaus-koblenz.de/wp-content/uploads/2026/01/Eintrittskarte-Fruehschoppen_Brauhaus_16012026.jpg
END:VEVENT
END:VCALENDAR