BEGIN:VCALENDAR
VERSION:2.0
PRODID:-//Altes Brauhaus Koblenz - ECPv6.15.17.1//NONSGML v1.0//EN
CALSCALE:GREGORIAN
METHOD:PUBLISH
X-ORIGINAL-URL:https://www.altesbrauhaus-koblenz.de
X-WR-CALDESC:Veranstaltungen für Altes Brauhaus Koblenz
REFRESH-INTERVAL;VALUE=DURATION:PT1H
X-Robots-Tag:noindex
X-PUBLISHED-TTL:PT1H
BEGIN:VTIMEZONE
TZID:Europe/Berlin
BEGIN:DAYLIGHT
TZOFFSETFROM:+0100
TZOFFSETTO:+0200
TZNAME:CEST
DTSTART:20230326T010000
END:DAYLIGHT
BEGIN:STANDARD
TZOFFSETFROM:+0200
TZOFFSETTO:+0100
TZNAME:CET
DTSTART:20231029T010000
END:STANDARD
BEGIN:DAYLIGHT
TZOFFSETFROM:+0100
TZOFFSETTO:+0200
TZNAME:CEST
DTSTART:20240331T010000
END:DAYLIGHT
BEGIN:STANDARD
TZOFFSETFROM:+0200
TZOFFSETTO:+0100
TZNAME:CET
DTSTART:20241027T010000
END:STANDARD
BEGIN:DAYLIGHT
TZOFFSETFROM:+0100
TZOFFSETTO:+0200
TZNAME:CEST
DTSTART:20250330T010000
END:DAYLIGHT
BEGIN:STANDARD
TZOFFSETFROM:+0200
TZOFFSETTO:+0100
TZNAME:CET
DTSTART:20251026T010000
END:STANDARD
BEGIN:DAYLIGHT
TZOFFSETFROM:+0100
TZOFFSETTO:+0200
TZNAME:CEST
DTSTART:20260329T010000
END:DAYLIGHT
BEGIN:STANDARD
TZOFFSETFROM:+0200
TZOFFSETTO:+0100
TZNAME:CET
DTSTART:20261025T010000
END:STANDARD
END:VTIMEZONE
BEGIN:VEVENT
DTSTART;TZID=Europe/Berlin:20250818T120000
DTEND;TZID=Europe/Berlin:20250819T143000
DTSTAMP:20260424T140939
CREATED:20250714T083424Z
LAST-MODIFIED:20250714T083424Z
UID:10000452-1755518400-1755613800@www.altesbrauhaus-koblenz.de
SUMMARY:Einschulung feiern im Alten Brauhaus
DESCRIPTION:Feiern Sie diesen besonderen Tag Ihrer Liebsten in entspannter und familiärer Atmosphäre bei uns in Mülheim-Kärlich. \n📅 Am 18. & 19. August 2025 \n🕛 Ab 12:00 Uhr geöffnet \nBei schönem Wetter im Biergarten  \n👧🧒 Für die Kleinen: \n🍝 Leckere Kinderkarte \n🎁 Kleine Überraschung für alle Schulanfänger! \n  \n👨‍👩‍👧‍👦 Für die Großen: \n🍽️ Essen à la carte mit durchgehend warmer Küche \n  \nReserviert jetzt euren Tisch und macht den Schulstart unvergesslich: \n🌐 www.altesbrauhaus.de \n  \nWir freuen uns auf euch! \nEuer Brauhaus-Team Mülheim-Kärlich 💛 \n  \n#Einschulung2025 #AltesBrauhaus #MülheimKärlich #FeiernMitFamilie #Kinderkarte #Schulanfang #Brauhausevent #Familienfeier #WirFeiernEuch
URL:https://www.altesbrauhaus-koblenz.de/event/einschulung-feiern-im-alten-brauhaus/
LOCATION:Brauhaus Mülheim-Kärlich\, Kapellenstraße 2\, Mülheim-Kärlich\, Rheinland-Pfalz\, 56218\, Deutschland
ATTACH;FMTTYPE=image/jpeg:https://www.altesbrauhaus-koblenz.de/wp-content/uploads/2025/07/08.2025-EinschulungBMK--scaled.jpg
END:VEVENT
BEGIN:VEVENT
DTSTART;TZID=Europe/Berlin:20240826T080000
DTEND;TZID=Europe/Berlin:20240827T170000
DTSTAMP:20260424T140939
CREATED:20240815T134241Z
LAST-MODIFIED:20240815T134241Z
UID:10000083-1724659200-1724778000@www.altesbrauhaus-koblenz.de
SUMMARY:Einschulung im Alten Brauhaus Mülheim-Kärlich
DESCRIPTION:Einschulung im Alten Brauhaus Mülheim-Kärlich 26. und 27. August ab 12 Uhr \nEssen nach Karte mit durchgehend warmer Küche \nExtra Kinderkarte \nBitte reservieren
URL:https://www.altesbrauhaus-koblenz.de/event/einschulung-im-alten-brauhaus-muelheim-kaerlich/
LOCATION:Brauhaus Mülheim-Kärlich\, Kapellenstraße 2\, Mülheim-Kärlich\, Rheinland-Pfalz\, 56218\, Deutschland
ATTACH;FMTTYPE=image/jpeg:https://www.altesbrauhaus-koblenz.de/wp-content/uploads/2024/08/EinschulungBMK-2024-scaled.jpg
END:VEVENT
END:VCALENDAR