BEGIN:VCALENDAR
VERSION:2.0
PRODID:-//Altes Brauhaus Koblenz - ECPv6.15.17.1//NONSGML v1.0//EN
CALSCALE:GREGORIAN
METHOD:PUBLISH
X-ORIGINAL-URL:https://www.altesbrauhaus-koblenz.de
X-WR-CALDESC:Veranstaltungen für Altes Brauhaus Koblenz
REFRESH-INTERVAL;VALUE=DURATION:PT1H
X-Robots-Tag:noindex
X-PUBLISHED-TTL:PT1H
BEGIN:VTIMEZONE
TZID:Europe/Berlin
BEGIN:DAYLIGHT
TZOFFSETFROM:+0100
TZOFFSETTO:+0200
TZNAME:CEST
DTSTART:20240331T010000
END:DAYLIGHT
BEGIN:STANDARD
TZOFFSETFROM:+0200
TZOFFSETTO:+0100
TZNAME:CET
DTSTART:20241027T010000
END:STANDARD
BEGIN:DAYLIGHT
TZOFFSETFROM:+0100
TZOFFSETTO:+0200
TZNAME:CEST
DTSTART:20250330T010000
END:DAYLIGHT
BEGIN:STANDARD
TZOFFSETFROM:+0200
TZOFFSETTO:+0100
TZNAME:CET
DTSTART:20251026T010000
END:STANDARD
BEGIN:DAYLIGHT
TZOFFSETFROM:+0100
TZOFFSETTO:+0200
TZNAME:CEST
DTSTART:20260329T010000
END:DAYLIGHT
BEGIN:STANDARD
TZOFFSETFROM:+0200
TZOFFSETTO:+0100
TZNAME:CET
DTSTART:20261025T010000
END:STANDARD
END:VTIMEZONE
BEGIN:VEVENT
DTSTART;TZID=Europe/Berlin:20251204T091500
DTEND;TZID=Europe/Berlin:20251204T120000
DTSTAMP:20260425T121810
CREATED:20250411T095934Z
LAST-MODIFIED:20251124T213449Z
UID:10000405-1764839700-1764849600@www.altesbrauhaus-koblenz.de
SUMMARY:Alpenländisches Advents-Frühstück im Alten Brauhaus Mülheim-Kärlich
DESCRIPTION:Alpenländisches Advents-Frühstück im Alten Brauhaus Mülheim-Kärlich\nam 3. Advent mit Live-Band \n4.12. von 9.15 Uhr bis ca 12 Uhr \nBrauhausmusikanten \nReservierung erbeten \nBuchungen bitte telefonisch über 02630 9190294\n 
URL:https://www.altesbrauhaus-koblenz.de/event/alpenlaendisches-advents-fruehstueck-im-alten-brauhaus-muelheim-kaerlich/
LOCATION:Brauhaus Mülheim-Kärlich\, Kapellenstraße 2\, Mülheim-Kärlich\, Rheinland-Pfalz\, 56218\, Deutschland
ATTACH;FMTTYPE=image/png:https://www.altesbrauhaus-koblenz.de/wp-content/uploads/2025/10/Altes-Brauhaus-Koblenz-3.png
END:VEVENT
END:VCALENDAR