BEGIN:VCALENDAR
VERSION:2.0
PRODID:-//Altes Brauhaus Koblenz - ECPv6.15.17.1//NONSGML v1.0//EN
CALSCALE:GREGORIAN
METHOD:PUBLISH
X-ORIGINAL-URL:https://www.altesbrauhaus-koblenz.de
X-WR-CALDESC:Veranstaltungen für Altes Brauhaus Koblenz
REFRESH-INTERVAL;VALUE=DURATION:PT1H
X-Robots-Tag:noindex
X-PUBLISHED-TTL:PT1H
BEGIN:VTIMEZONE
TZID:Europe/Berlin
BEGIN:DAYLIGHT
TZOFFSETFROM:+0100
TZOFFSETTO:+0200
TZNAME:CEST
DTSTART:20250330T010000
END:DAYLIGHT
BEGIN:STANDARD
TZOFFSETFROM:+0200
TZOFFSETTO:+0100
TZNAME:CET
DTSTART:20251026T010000
END:STANDARD
BEGIN:DAYLIGHT
TZOFFSETFROM:+0100
TZOFFSETTO:+0200
TZNAME:CEST
DTSTART:20260329T010000
END:DAYLIGHT
BEGIN:STANDARD
TZOFFSETFROM:+0200
TZOFFSETTO:+0100
TZNAME:CET
DTSTART:20261025T010000
END:STANDARD
BEGIN:DAYLIGHT
TZOFFSETFROM:+0100
TZOFFSETTO:+0200
TZNAME:CEST
DTSTART:20270328T010000
END:DAYLIGHT
BEGIN:STANDARD
TZOFFSETFROM:+0200
TZOFFSETTO:+0100
TZNAME:CET
DTSTART:20271031T010000
END:STANDARD
END:VTIMEZONE
BEGIN:VEVENT
DTSTART;TZID=Europe/Berlin:20260430T100000
DTEND;TZID=Europe/Berlin:20260430T233000
DTSTAMP:20260423T133319
CREATED:20260313T070421Z
LAST-MODIFIED:20260313T070421Z
UID:10000493-1777543200-1777591800@www.altesbrauhaus-koblenz.de
SUMMARY:Kaninchen to go
DESCRIPTION:
URL:https://www.altesbrauhaus-koblenz.de/event/kaninchen-to-go/
LOCATION:Brauhaus
ATTACH;FMTTYPE=image/png:https://www.altesbrauhaus-koblenz.de/wp-content/uploads/2026/03/36f3aadfc658d52c382e307c3524f155dae3f7d802298dc1bac9084190b7d366.png
END:VEVENT
END:VCALENDAR