BEGIN:VCALENDAR
VERSION:2.0
PRODID:-//Altes Brauhaus Koblenz - ECPv6.15.17.1//NONSGML v1.0//EN
CALSCALE:GREGORIAN
METHOD:PUBLISH
X-ORIGINAL-URL:https://www.altesbrauhaus-koblenz.de
X-WR-CALDESC:Veranstaltungen für Altes Brauhaus Koblenz
REFRESH-INTERVAL;VALUE=DURATION:PT1H
X-Robots-Tag:noindex
X-PUBLISHED-TTL:PT1H
BEGIN:VTIMEZONE
TZID:Europe/Berlin
BEGIN:DAYLIGHT
TZOFFSETFROM:+0100
TZOFFSETTO:+0200
TZNAME:CEST
DTSTART:20250330T010000
END:DAYLIGHT
BEGIN:STANDARD
TZOFFSETFROM:+0200
TZOFFSETTO:+0100
TZNAME:CET
DTSTART:20251026T010000
END:STANDARD
BEGIN:DAYLIGHT
TZOFFSETFROM:+0100
TZOFFSETTO:+0200
TZNAME:CEST
DTSTART:20260329T010000
END:DAYLIGHT
BEGIN:STANDARD
TZOFFSETFROM:+0200
TZOFFSETTO:+0100
TZNAME:CET
DTSTART:20261025T010000
END:STANDARD
BEGIN:DAYLIGHT
TZOFFSETFROM:+0100
TZOFFSETTO:+0200
TZNAME:CEST
DTSTART:20270328T010000
END:DAYLIGHT
BEGIN:STANDARD
TZOFFSETFROM:+0200
TZOFFSETTO:+0100
TZNAME:CET
DTSTART:20271031T010000
END:STANDARD
END:VTIMEZONE
BEGIN:VEVENT
DTSTART;TZID=Europe/Berlin:20260217T090000
DTEND;TZID=Europe/Berlin:20260222T233000
DTSTAMP:20260425T151502
CREATED:20260106T092320Z
LAST-MODIFIED:20260123T084603Z
UID:10000486-1771318800-1771803000@www.altesbrauhaus-koblenz.de
SUMMARY:Herings-Fischwochen im Alten Brauhaus
DESCRIPTION:Herings-Fischwochen mit zusätzlicher Standardkarte
URL:https://www.altesbrauhaus-koblenz.de/event/herings-fischwochen-im-alten-brauhaus/
LOCATION:Brauhaus
ATTACH;FMTTYPE=image/jpeg:https://www.altesbrauhaus-koblenz.de/wp-content/uploads/2026/01/Veranstaltungen-Plakate-3.jpg
END:VEVENT
END:VCALENDAR