BEGIN:VCALENDAR
VERSION:2.0
PRODID:-//Altes Brauhaus Koblenz - ECPv6.15.17.1//NONSGML v1.0//EN
CALSCALE:GREGORIAN
METHOD:PUBLISH
X-ORIGINAL-URL:https://www.altesbrauhaus-koblenz.de
X-WR-CALDESC:Veranstaltungen für Altes Brauhaus Koblenz
REFRESH-INTERVAL;VALUE=DURATION:PT1H
X-Robots-Tag:noindex
X-PUBLISHED-TTL:PT1H
BEGIN:VTIMEZONE
TZID:Europe/Berlin
BEGIN:DAYLIGHT
TZOFFSETFROM:+0100
TZOFFSETTO:+0200
TZNAME:CEST
DTSTART:20230326T010000
END:DAYLIGHT
BEGIN:STANDARD
TZOFFSETFROM:+0200
TZOFFSETTO:+0100
TZNAME:CET
DTSTART:20231029T010000
END:STANDARD
BEGIN:DAYLIGHT
TZOFFSETFROM:+0100
TZOFFSETTO:+0200
TZNAME:CEST
DTSTART:20240331T010000
END:DAYLIGHT
BEGIN:STANDARD
TZOFFSETFROM:+0200
TZOFFSETTO:+0100
TZNAME:CET
DTSTART:20241027T010000
END:STANDARD
BEGIN:DAYLIGHT
TZOFFSETFROM:+0100
TZOFFSETTO:+0200
TZNAME:CEST
DTSTART:20250330T010000
END:DAYLIGHT
BEGIN:STANDARD
TZOFFSETFROM:+0200
TZOFFSETTO:+0100
TZNAME:CET
DTSTART:20251026T010000
END:STANDARD
BEGIN:DAYLIGHT
TZOFFSETFROM:+0100
TZOFFSETTO:+0200
TZNAME:CEST
DTSTART:20260329T010000
END:DAYLIGHT
BEGIN:STANDARD
TZOFFSETFROM:+0200
TZOFFSETTO:+0100
TZNAME:CET
DTSTART:20261025T010000
END:STANDARD
END:VTIMEZONE
BEGIN:VEVENT
DTSTART;VALUE=DATE:20241101
DTEND;VALUE=DATE:20250102
DTSTAMP:20260425T170204
CREATED:20241017T100543Z
LAST-MODIFIED:20241017T100543Z
UID:10000090-1730419200-1735775999@www.altesbrauhaus-koblenz.de
SUMMARY:Gans und Flugente im Alten Brauhaus Koblenz und Mülheim-Kärlich
DESCRIPTION:Gans und Flugente im Alten Brauhaus Koblenz und Mülheim-Kärlich \nGans to go oder 1 ganze Gans oder 1 Flugente \nFestlich genießen mit leckeren Beilagen \nJetzt reservieren in deinem Brauhaus!
URL:https://www.altesbrauhaus-koblenz.de/event/gans-und-flugente-im-alten-brauhaus-koblenz-und-muelheim-kaerlich/
LOCATION:Brauhaus
ATTACH;FMTTYPE=image/png:https://www.altesbrauhaus-koblenz.de/wp-content/uploads/2024/10/NEU-GAeNSE-MKKO-Flyer.png
END:VEVENT
BEGIN:VEVENT
DTSTART;TZID=Europe/Berlin:20241115T173000
DTEND;TZID=Europe/Berlin:20241115T220000
DTSTAMP:20260425T170204
CREATED:20240729T081010Z
LAST-MODIFIED:20240729T082859Z
UID:10000071-1731691800-1731708000@www.altesbrauhaus-koblenz.de
SUMMARY:Handwerker Peters Handwerker-Comedy in Mülheim-Kärlich
DESCRIPTION:Handwerker Peters Handwerker-Comedy \nam 15. November 18 bis 19:50 Uhr \nEinlass 17:30 Uhr \nSchnitzelbüffet im Saal \n20 Uhr Comedy Beginn ( bis ca 22 Uhr)
URL:https://www.altesbrauhaus-koblenz.de/event/handwerker-peters-handwerker-comedy-in-muelheim-kaerlich/
LOCATION:Brauhaus Mülheim-Kärlich\, Kapellenstraße 2\, Mülheim-Kärlich\, Rheinland-Pfalz\, 56218\, Deutschland
ATTACH;FMTTYPE=image/jpeg:https://www.altesbrauhaus-koblenz.de/wp-content/uploads/2024/07/handwerker-peters-mk-scaled-1.jpg
END:VEVENT
END:VCALENDAR